BEGIN:VCALENDAR
VERSION:2.0
PRODID:-//Squarespace Inc/Squarespace 6//v6//EN
BEGIN:VEVENT
UID:54978090e4b04b06d45d50f7@squarespace.com
DTSTAMP:20180910T040713Z
DTSTART:20160221T060000Z
DTEND:20160221T080000Z
SUMMARY:Nose to Tail - Offal Encounters with MacLean Fraser - Five places l
 eft!
GEO:-41.325755;174.795595
LOCATION:Crave Cooking School\, 147 Onepu Rd\, Wellington\, Wellington\, 60
 22\, New Zealand
END:VEVENT
END:VCALENDAR
