BEGIN:VCALENDAR
VERSION:2.0
PRODID:-//Squarespace Inc/Squarespace 6//v6//EN
BEGIN:VEVENT
UID:5610c53ee4b0890ee92a9ecf@squarespace.com
DTSTAMP:20151118T015305Z
DTSTART:20151209T220000Z
DTEND:20151210T010000Z
SUMMARY:Private Battle Kitchen Cook-off Two Teams\, One Winner!
END:VEVENT
END:VCALENDAR
