BEGIN:VCALENDAR
VERSION:2.0
PRODID:-//Squarespace Inc/Squarespace 6//v6//EN
BEGIN:VEVENT
UID:56249eb0e4b0b08cacf12929@squarespace.com
DTSTAMP:20151019T080746Z
DTSTART:20151126T230000Z
DTEND:20151127T020000Z
SUMMARY:PRIVATE BBQ PARTY - CORPORATE EVENT
GEO:-41.325755;174.795595
LOCATION:Crave Cooking School\, 147 Onepu Road\, Wellington\, Wellington\, 
 6022\, New Zealand
END:VEVENT
END:VCALENDAR
