BEGIN:VCALENDAR
VERSION:2.0
PRODID:-//Squarespace Inc/Squarespace 6//v6//EN
BEGIN:VEVENT
UID:5629f2abe4b01720bea75569@squarespace.com
DTSTAMP:20151027T053534Z
DTSTART:20151101T050000Z
DTEND:20151101T073000Z
SUMMARY:Mexican "Day of the Dead" - Wellington Foodies 
END:VEVENT
END:VCALENDAR
