BEGIN:VCALENDAR
VERSION:2.0
PRODID:-//Squarespace Inc/Squarespace 6//v6//EN
BEGIN:VEVENT
UID:56249dbae4b04bb42a1f7e89@squarespace.com
DTSTAMP:20151019T080241Z
DTSTART:20151112T030000Z
DTEND:20151112T060000Z
SUMMARY:Private Battle Kitchen - Corporate Cook-Off
GEO:-41.325755;174.795595
LOCATION:Crave Cooking School\, 147 Onepu Road\, Wellington\, Wellington\, 
 6022\, New Zealand
END:VEVENT
END:VCALENDAR
