BEGIN:VCALENDAR
VERSION:2.0
PRODID:-//Squarespace Inc/Squarespace 6//v6//EN
BEGIN:VEVENT
UID:5610bf10e4b02dbd23407670@squarespace.com
DTSTAMP:20151118T035152Z
DTSTART:20151205T050000Z
DTEND:20151205T070000Z
SUMMARY:Private Hen Party
END:VEVENT
END:VCALENDAR
