BEGIN:VCALENDAR
VERSION:2.0
PRODID:-//Squarespace Inc/Squarespace 6//v6//EN
BEGIN:VEVENT
UID:56280d3be4b00bbdefaf5fec@squarespace.com
DTSTAMP:20151118T031048Z
DTSTART:20151207T060000Z
DTEND:20151207T080000Z
SUMMARY:Home Spun Christmas Gift Class with Chef Zoe Lloyd
END:VEVENT
END:VCALENDAR
