BEGIN:VCALENDAR
VERSION:2.0
PRODID:-//Squarespace Inc/Squarespace 6//v6//EN
BEGIN:VEVENT
UID:5629dd16e4b01720bea71859@squarespace.com
DTSTAMP:20151023T071344Z
DTSTART:20151114T220000Z
DTEND:20151115T000000Z
SUMMARY:Private Children's Birthday Party with Wellington Foodies Kids
END:VEVENT
END:VCALENDAR
