BEGIN:VCALENDAR
VERSION:2.0
PRODID:-//Squarespace Inc/Squarespace 6//v6//EN
BEGIN:VEVENT
UID:5648f0b5e4b021b7ebf40507@squarespace.com
DTSTAMP:20151115T205738Z
DTSTART:20151120T003000Z
DTEND:20151120T033000Z
SUMMARY:Private Battle Kitchen
GEO:-41.325755;174.795595
LOCATION:Crave Cooking School\, 147 Onepu Road\, Wellington\, Wellington\, 
 6022\, New Zealand
END:VEVENT
END:VCALENDAR
