BEGIN:VCALENDAR
VERSION:2.0
PRODID:-//Squarespace Inc/Squarespace 6//v6//EN
BEGIN:VEVENT
UID:564bdf51e4b08e5f0e4571ae@squarespace.com
DTSTAMP:20160106T234556Z
DTSTART:20160206T230000Z
DTEND:20160207T010000Z
SUMMARY:Vegetarian BBQ Class with Chef Amber Sturtz from Easy as Kai - four 
 places left
END:VEVENT
END:VCALENDAR
