BEGIN:VCALENDAR
VERSION:2.0
PRODID:-//Squarespace Inc/Squarespace 6//v6//EN
BEGIN:VEVENT
UID:564bdc58e4b05b059b4d399a@squarespace.com
DTSTAMP:20151118T020514Z
DTSTART:20151118T023000Z
DTEND:20151118T033000Z
SUMMARY:Private Battle Kitchen - Corporate Christmas Cook-off
END:VEVENT
END:VCALENDAR
