BEGIN:VCALENDAR
VERSION:2.0
PRODID:-//Squarespace Inc/Squarespace 6//v6//EN
BEGIN:VEVENT
UID:564bdb06e4b0bc4797824bc0@squarespace.com
DTSTAMP:20151118T020231Z
DTSTART:20151210T050000Z
DTEND:20151210T080000Z
SUMMARY:Private Battle Kitchen - Corporate Christmas Cook-off
END:VEVENT
END:VCALENDAR
