BEGIN:VCALENDAR
VERSION:2.0
PRODID:-//Squarespace Inc/Squarespace 6//v6//EN
BEGIN:VEVENT
UID:5648f291e4b003ec2cc3813b@squarespace.com
DTSTAMP:20151115T210525Z
DTSTART:20151119T053000Z
DTEND:20151119T070000Z
SUMMARY:Private BBQ party - Charcoal BBQ
GEO:-41.325755;174.795595
LOCATION:Crave Cooking School\, 147 Onepu Road\, Wellington\, Wellington\, 
 6022\, New Zealand
END:VEVENT
END:VCALENDAR
