BEGIN:VCALENDAR
VERSION:2.0
PRODID:-//Squarespace Inc/Squarespace 6//v6//EN
BEGIN:VEVENT
UID:5648ed27e4b0440522773f5a@squarespace.com
DTSTAMP:20151115T205204Z
DTSTART:20151120T220000Z
DTEND:20151121T003000Z
SUMMARY:Private BBQ party - Charcoal BBQ
GEO:-41.325755;174.795595
LOCATION:Crave Cooking School\, 147 Onepu Road\, Wellington\, Wellington\, 
 6022\, New Zealand
END:VEVENT
END:VCALENDAR
