BEGIN:VCALENDAR
VERSION:2.0
PRODID:-//Squarespace Inc/Squarespace 6//v6//EN
BEGIN:VEVENT
UID:564bdd90e4b0bc47978263ec@squarespace.com
DTSTAMP:20151118T021154Z
DTSTART:20151121T220000Z
DTEND:20151122T000000Z
SUMMARY:Private Children's Birthday Party Cooking Class with Wellington Foo
 dies Kids
END:VEVENT
END:VCALENDAR
