BEGIN:VCALENDAR
VERSION:2.0
PRODID:-//Squarespace Inc/Squarespace 6//v6//EN
BEGIN:VEVENT
UID:5610c469e4b00e2783b6e859@squarespace.com
DTSTAMP:20151004T061940Z
DTSTART:20151107T053000Z
DTEND:20151107T083000Z
SUMMARY:Private Hen Party
END:VEVENT
END:VCALENDAR
