BEGIN:VCALENDAR
VERSION:2.0
PRODID:-//Squarespace Inc/Squarespace 6//v6//EN
BEGIN:VEVENT
UID:5610bd27e4b099e0ea0c2526@squarespace.com
DTSTAMP:20151004T055338Z
DTSTART:20151106T230000Z
DTEND:20151107T020000Z
SUMMARY:Private Hen Party
END:VEVENT
END:VCALENDAR
