BEGIN:VCALENDAR
VERSION:2.0
PRODID:-//Squarespace Inc/Squarespace 6//v6//EN
BEGIN:VEVENT
UID:564bf0f0e4b0bc4797832328@squarespace.com
DTSTAMP:20151118T033618Z
DTSTART:20151210T230000Z
DTEND:20151211T020000Z
SUMMARY:PRIVATE BATTLE KITCHEN - CORPORATE CHRISTMAS COOK-OFF
END:VEVENT
END:VCALENDAR
