BEGIN:VCALENDAR
VERSION:2.0
PRODID:-//Squarespace Inc/Squarespace 6//v6//EN
BEGIN:VEVENT
UID:564bdce4e4b037eed3701614@squarespace.com
DTSTAMP:20151118T020804Z
DTSTART:20151211T040000Z
DTEND:20151211T060000Z
SUMMARY:Private Battle Kitchen - Corporate Christmas Cook-off!
END:VEVENT
END:VCALENDAR
