BEGIN:VCALENDAR
VERSION:2.0
PRODID:-//Squarespace Inc/Squarespace 6//v6//EN
BEGIN:VEVENT
UID:56249f62e4b0099ac9cefe77@squarespace.com
DTSTAMP:20151118T033834Z
DTSTART:20151215T050000Z
DTEND:20151215T073000Z
SUMMARY:PRIVATE BBQ PARTY - CORPORATE EVENT
GEO:-41.325755;174.795595
LOCATION:Crave Cooking School\, 147 Onepu Road\, Wellington\, Wellington\, 
 6022\, New Zealand
END:VEVENT
END:VCALENDAR
