BEGIN:VCALENDAR
VERSION:2.0
PRODID:-//Squarespace Inc/Squarespace 6//v6//EN
BEGIN:VEVENT
UID:564bf2e8e4b05fdef9f9fa31@squarespace.com
DTSTAMP:20151118T034237Z
DTSTART:20151217T230000Z
DTEND:20151218T020000Z
SUMMARY:PRIVATE BBQ PARTY - CHARCOAL BBQ
END:VEVENT
END:VCALENDAR
