BEGIN:VCALENDAR
VERSION:2.0
PRODID:-//Squarespace Inc/Squarespace 6//v6//EN
BEGIN:VEVENT
UID:5d1a9a228708b2000135ae86@squarespace.com
DTSTAMP:20190701T234207Z
DTSTART:20190824T050000Z
DTEND:20190824T080000Z
SUMMARY:Hen's Party
END:VEVENT
END:VCALENDAR
