BEGIN:VCALENDAR
VERSION:2.0
PRODID:-//Squarespace Inc/Squarespace 6//v6//EN
BEGIN:VEVENT
UID:5c6b704be5e5f09770241397@squarespace.com
DTSTAMP:20190701T234121Z
DTSTART:20190223T040000Z
DTEND:20190223T070000Z
SUMMARY:Private Hen Party
END:VEVENT
END:VCALENDAR
