BEGIN:VCALENDAR
VERSION:2.0
PRODID:-//Squarespace Inc/Squarespace 6//v6//EN
BEGIN:VEVENT
UID:5b9b4cb38a922db50d25f4af@squarespace.com
DTSTAMP:20190219T025610Z
DTSTART:20181102T230000Z
DTEND:20181103T020000Z
SUMMARY:Private Hen Party
END:VEVENT
END:VCALENDAR
