BEGIN:VCALENDAR
VERSION:2.0
PRODID:-//Squarespace Inc/Squarespace 6//v6//EN
BEGIN:VEVENT
UID:5b8c5589562fa736b2f5e1ae@squarespace.com
DTSTAMP:20180914T055250Z
DTSTART:20180929T060000Z
DTEND:20180929T090000Z
SUMMARY:Private Hen Party
END:VEVENT
END:VCALENDAR
