BEGIN:VCALENDAR
VERSION:2.0
PRODID:-//Squarespace Inc/Squarespace 6//v6//EN
BEGIN:VEVENT
UID:5c16b092758d463b97117fe9@squarespace.com
DTSTAMP:20181216T200811Z
DTSTART:20190118T233000Z
DTEND:20190119T023000Z
SUMMARY:Private Hen Party
END:VEVENT
END:VCALENDAR
