BEGIN:VCALENDAR
VERSION:2.0
PRODID:-//Squarespace Inc/Squarespace 6//v6//EN
BEGIN:VEVENT
UID:597a1b85e4fcb5787a09cfd9@squarespace.com
DTSTAMP:20181216T200746Z
DTSTART:20190126T050000Z
DTEND:20190126T080000Z
SUMMARY:Private Hen Party
END:VEVENT
END:VCALENDAR
