BEGIN:VCALENDAR
VERSION:2.0
PRODID:-//Squarespace Inc/Squarespace 6//v6//EN
BEGIN:VEVENT
UID:5610c0b3e4b0e75bc49a96a9@squarespace.com
DTSTAMP:20170727T165741Z
DTSTART:20170826T060000Z
DTEND:20170826T090000Z
SUMMARY:Private Hen Party
END:VEVENT
END:VCALENDAR
