BEGIN:VCALENDAR
VERSION:2.0
PRODID:-//Squarespace Inc/Squarespace 6//v6//EN
BEGIN:VEVENT
UID:5626ab3ce4b0aada1f360b8f@squarespace.com
DTSTAMP:20151020T210503Z
DTSTART:20151204T040000Z
DTEND:20151204T070000Z
SUMMARY:Private Christmas foraging class with Chef Asher Boote
END:VEVENT
END:VCALENDAR
