BEGIN:VCALENDAR
VERSION:2.0
PRODID:-//Squarespace Inc/Squarespace 6//v6//EN
BEGIN:VEVENT
UID:564bf40fe4b0b8eacea868fa@squarespace.com
DTSTAMP:20151118T035019Z
DTSTART:20151203T230000Z
DTEND:20151204T010000Z
SUMMARY:PRIVATE BATTLE KITCHEN - CORPORATE CHRISTMAS COOK-OFF
END:VEVENT
END:VCALENDAR
