BEGIN:VCALENDAR
VERSION:2.0
PRODID:-//Squarespace Inc/Squarespace 6//v6//EN
BEGIN:VEVENT
UID:5624a0b0e4b0bca6fa63cea8@squarespace.com
DTSTAMP:20151019T080302Z
DTSTART:20151209T050000Z
DTEND:20151209T080000Z
SUMMARY:PRIVATE BATTLE KITCHEN - CORPORATE COOK-OFF
GEO:-41.325755;174.795595
LOCATION:Crave Cooking School\, 147 Onepu Road\, Wellington\, Wellington\, 
 6022\, New Zealand
END:VEVENT
END:VCALENDAR
