BEGIN:VCALENDAR
VERSION:2.0
PRODID:-//Squarespace Inc/Squarespace 6//v6//EN
BEGIN:VEVENT
UID:54f22a66e4b079e94c26a7d1@squarespace.com
DTSTAMP:20160101T012514Z
DTSTART:20160218T060000Z
DTEND:20160218T073000Z
SUMMARY:Knife Skills with Chef Luke Crawford from Neo Cafe - sorry sold out
END:VEVENT
END:VCALENDAR
