BEGIN:VCALENDAR
VERSION:2.0
PRODID:-//Squarespace Inc/Squarespace 6//v6//EN
BEGIN:VEVENT
UID:55245394e4b031e90a8feb9f@squarespace.com
DTSTAMP:20190309T041322Z
DTSTART:20170223T060000Z
DTEND:20170223T080000Z
SUMMARY:Fish Filleting with Luke Crawford from Neo - Sorry sold out!
END:VEVENT
END:VCALENDAR
