BEGIN:VCALENDAR
VERSION:2.0
PRODID:-//Squarespace Inc/Squarespace 6//v6//EN
BEGIN:VEVENT
UID:5595b2b9e4b0b41e79692998@squarespace.com
DTSTAMP:20151118T015603Z
DTSTART:20151208T220000Z
DTEND:20151209T000000Z
SUMMARY:PRIVATE BATTLE KITCHEN - TEAM BUILDING + COOKING CLASS. TWO TEAMS\, 
 ONE WINNER!
END:VEVENT
END:VCALENDAR
