BEGIN:VCALENDAR
VERSION:2.0
PRODID:-//Squarespace Inc/Squarespace 6//v6//EN
BEGIN:VEVENT
UID:5c4f8bd570a6ada5330e6663@squarespace.com
DTSTAMP:20190719T163639Z
DTSTART:20190227T053000Z
DTEND:20190227T073000Z
SUMMARY:Indian vegetarian curry class with Chef Muthuvelu Supramaniam of th
 e Roxy--SOLD OUT
GEO:-41.325755;174.795595
LOCATION:Crave Cooking School\, 147 Onepu Road\, Wellington\, Wellington\, 
 6022\, New Zealand
END:VEVENT
END:VCALENDAR
