BEGIN:VCALENDAR
VERSION:2.0
PRODID:-//Squarespace Inc/Squarespace 6//v6//EN
BEGIN:VEVENT
UID:5c6b8584eb39312979e93948@squarespace.com
DTSTAMP:20190519T033535Z
DTSTART:20190605T063000Z
DTEND:20190605T083000Z
SUMMARY:Gnocchi with Chef Roberto Giorgioni from Bongusto - The Master of P
 asta 
END:VEVENT
END:VCALENDAR
