BEGIN:VCALENDAR
VERSION:2.0
PRODID:-//Squarespace Inc/Squarespace 6//v6//EN
BEGIN:VEVENT
UID:55dd7c92e4b0ec1e12a582fb@squarespace.com
DTSTAMP:20160114T005150Z
DTSTART:20160208T050000Z
DTEND:20160208T080000Z
SUMMARY:Bread Making: Bagels\, Corn Bread + Sourdough with Chef Zoe Lloyd - 
 sorry sold out!
END:VEVENT
END:VCALENDAR
