BEGIN:VCALENDAR
VERSION:2.0
PRODID:-//Squarespace Inc/Squarespace 6//v6//EN
BEGIN:VEVENT
UID:5629daeae4b025e48a11d36f@squarespace.com
DTSTAMP:20160123T015306Z
DTSTART:20160128T060000Z
DTEND:20160128T073000Z
SUMMARY:Knife Skills with Chef Zoe Lloyd - sold out!
END:VEVENT
END:VCALENDAR
