BEGIN:VCALENDAR
VERSION:2.0
PRODID:-//Squarespace Inc/Squarespace 6//v6//EN
BEGIN:VEVENT
UID:581283dbff7c504efe6d2d55@squarespace.com
DTSTAMP:20161116T013053Z
DTSTART:20161215T050000Z
DTEND:20161215T080000Z
SUMMARY:Twilight Coastal Foraging and Cooking Class with Peter Langlands an
 d Chef Frank Brewer - Sorry Sold Out
END:VEVENT
END:VCALENDAR
