BEGIN:VCALENDAR
VERSION:2.0
PRODID:-//Squarespace Inc/Squarespace 6//v6//EN
BEGIN:VEVENT
UID:57fdbb6120099e2082ebf1f5@squarespace.com
DTSTAMP:20161012T042737Z
DTSTART:20161106T000000Z
DTEND:20161106T020000Z
SUMMARY:Private Hen Party Cooking Class 
END:VEVENT
END:VCALENDAR
