BEGIN:VCALENDAR
VERSION:2.0
PRODID:-//Squarespace Inc/Squarespace 6//v6//EN
BEGIN:VEVENT
UID:57bfdc535016e158ac6d61e1@squarespace.com
DTSTAMP:20160826T060809Z
DTSTART:20161210T050000Z
DTEND:20161210T070000Z
SUMMARY:Christmas Party Battle Kitchen - Private Cooking Class
END:VEVENT
END:VCALENDAR
