BEGIN:VCALENDAR
VERSION:2.0
PRODID:-//Squarespace Inc/Squarespace 6//v6//EN
BEGIN:VEVENT
UID:585064b1ebbd1a1c9c5f3bac@squarespace.com
DTSTAMP:20170903T231044Z
DTSTART:20170817T060000Z
DTEND:20170817T093000Z
SUMMARY:SOURDOUGH\, JAM DOUGHNUTS\, AND BREAD ROLLS WITH CHEF MARIJA VIDOVI
 CH - three Places Left!
END:VEVENT
END:VCALENDAR
