BEGIN:VCALENDAR
VERSION:2.0
PRODID:-//Squarespace Inc/Squarespace 6//v6//EN
BEGIN:VEVENT
UID:57bfdae9e4fcb5d16fb06cb1@squarespace.com
DTSTAMP:20160826T060524Z
DTSTART:20161202T040000Z
DTEND:20161202T060000Z
SUMMARY:Christmas Party Battle Kitchen - Private Cooking Class
END:VEVENT
END:VCALENDAR
