BEGIN:VCALENDAR
VERSION:2.0
PRODID:-//Squarespace Inc/Squarespace 6//v6//EN
BEGIN:VEVENT
UID:56bc0048a3360c65dfed8c65@squarespace.com
DTSTAMP:20160224T011354Z
DTSTART:20160224T060000Z
DTEND:20160224T080000Z
SUMMARY:Tea and Craft Chocolate Tasting with Luke from The Chocolate Bar + 
 Katie From Ritual Tea - sorry sold out!
END:VEVENT
END:VCALENDAR
