BEGIN:VCALENDAR
VERSION:2.0
PRODID:-//Squarespace Inc/Squarespace 6//v6//EN
BEGIN:VEVENT
UID:564bf645e4b0bc4797834ff6@squarespace.com
DTSTAMP:20151118T035538Z
DTSTART:20160206T020000Z
DTEND:20160206T030000Z
SUMMARY:Private Birthday Party Battle Kitchen
END:VEVENT
END:VCALENDAR
