BEGIN:VCALENDAR
VERSION:2.0
PRODID:-//Squarespace Inc/Squarespace 6//v6//EN
BEGIN:VEVENT
UID:56e2129b9f7266cdffec2d84@squarespace.com
DTSTAMP:20160311T021328Z
DTSTART:20160316T050000Z
DTEND:20160316T080000Z
SUMMARY:Private Battle Kitchen Class - Stag Party
END:VEVENT
END:VCALENDAR
