BEGIN:VCALENDAR
VERSION:2.0
PRODID:-//Squarespace Inc/Squarespace 6//v6//EN
BEGIN:VEVENT
UID:56e7297059827eb2edec2b53@squarespace.com
DTSTAMP:20160401T204058Z
DTSTART:20160406T070000Z
DTEND:20160406T090000Z
SUMMARY:Season Eats - Aubergines with Amber Sturtz - Only One Place Left!
END:VEVENT
END:VCALENDAR
