BEGIN:VCALENDAR
VERSION:2.0
PRODID:-//Squarespace Inc/Squarespace 6//v6//EN
BEGIN:VEVENT
UID:56e89863c6fc08d2d7c1f835@squarespace.com
DTSTAMP:20170513T211236Z
DTSTART:20170628T223000Z
DTEND:20170629T013000Z
SUMMARY:Private Battle Kitchen Cooking Class
END:VEVENT
END:VCALENDAR
