BEGIN:VCALENDAR
VERSION:2.0
PRODID:-//Squarespace Inc/Squarespace 6//v6//EN
BEGIN:VEVENT
UID:56e899337c65e46f0852facb@squarespace.com
DTSTAMP:20160608T223817Z
DTSTART:20160623T060000Z
DTEND:20160623T090000Z
SUMMARY:Private Battle Kitchen Cook-Off
END:VEVENT
END:VCALENDAR
