BEGIN:VCALENDAR
VERSION:2.0
PRODID:-//Squarespace Inc/Squarespace 6//v6//EN
BEGIN:VEVENT
UID:56cb9b6640261db95f9a32be@squarespace.com
DTSTAMP:20190501T233032Z
DTSTART:20160303T060000Z
DTEND:20160303T080000Z
SUMMARY:Vietnamese with Chef Amber Sturtz from Easy as Kai - Sorry Sold out
 !
END:VEVENT
END:VCALENDAR
